BEGIN:VCALENDAR
VERSION:2.0
PRODID:-//Mid-Hudson Sporting Clays - ECPv6.11.0.1//NONSGML v1.0//EN
CALSCALE:GREGORIAN
METHOD:PUBLISH
X-WR-CALNAME:Mid-Hudson Sporting Clays
X-ORIGINAL-URL:https://midhudsonsporting.com
X-WR-CALDESC:Events for Mid-Hudson Sporting Clays
REFRESH-INTERVAL;VALUE=DURATION:PT1H
X-Robots-Tag:noindex
X-PUBLISHED-TTL:PT1H
BEGIN:VTIMEZONE
TZID:America/New_York
BEGIN:DAYLIGHT
TZOFFSETFROM:-0500
TZOFFSETTO:-0400
TZNAME:EDT
DTSTART:20240310T070000
END:DAYLIGHT
BEGIN:STANDARD
TZOFFSETFROM:-0400
TZOFFSETTO:-0500
TZNAME:EST
DTSTART:20241103T060000
END:STANDARD
BEGIN:DAYLIGHT
TZOFFSETFROM:-0500
TZOFFSETTO:-0400
TZNAME:EDT
DTSTART:20250309T070000
END:DAYLIGHT
BEGIN:STANDARD
TZOFFSETFROM:-0400
TZOFFSETTO:-0500
TZNAME:EST
DTSTART:20251102T060000
END:STANDARD
END:VTIMEZONE
BEGIN:VEVENT
DTSTART;TZID=America/New_York:20250510T000000
DTEND;TZID=America/New_York:20250510T000000
DTSTAMP:20260423T150847
CREATED:20250317T211046Z
LAST-MODIFIED:20250317T212906Z
UID:3168-1746835200-1746835200@midhudsonsporting.com
SUMMARY:Helping Disaster Victims Shoot
DESCRIPTION:
URL:https://midhudsonsporting.com/event/helping-disaster-victims-shoot/
CATEGORIES:Charity/Fundraiser Shoots
END:VEVENT
BEGIN:VEVENT
DTSTART;VALUE=DATE:20250420
DTEND;VALUE=DATE:20250421
DTSTAMP:20260423T150847
CREATED:20250407T154151Z
LAST-MODIFIED:20250407T154151Z
UID:3238-1745107200-1745193599@midhudsonsporting.com
SUMMARY:Closed for Easter Sunday
DESCRIPTION:
URL:https://midhudsonsporting.com/event/closed-for-easter-sunday/
CATEGORIES:Holiday
END:VEVENT
BEGIN:VEVENT
DTSTART;TZID=America/New_York:20250419T000000
DTEND;TZID=America/New_York:20250419T000000
DTSTAMP:20260423T150847
CREATED:20250317T211045Z
LAST-MODIFIED:20250317T212913Z
UID:3167-1745020800-1745020800@midhudsonsporting.com
SUMMARY:Easter 200
DESCRIPTION:
URL:https://midhudsonsporting.com/event/easter-200/
CATEGORIES:Registered Shoots
END:VEVENT
BEGIN:VEVENT
DTSTART;TZID=America/New_York:20250412T000000
DTEND;TZID=America/New_York:20250412T000000
DTSTAMP:20260423T150847
CREATED:20250317T211045Z
LAST-MODIFIED:20250331T140828Z
UID:3166-1744416000-1744416000@midhudsonsporting.com
SUMMARY:CANCELED: Aim For A Cause Team 911
DESCRIPTION:This event has been canceled.
URL:https://midhudsonsporting.com/event/aim-for-a-cause-team-911/
CATEGORIES:Charity/Fundraiser Shoots
END:VEVENT
BEGIN:VEVENT
DTSTART;TZID=America/New_York:20250323T000000
DTEND;TZID=America/New_York:20250323T000000
DTSTAMP:20260423T150847
CREATED:20250317T211044Z
LAST-MODIFIED:20250317T212930Z
UID:3165-1742688000-1742688000@midhudsonsporting.com
SUMMARY:St Patricks at MHSC
DESCRIPTION:
URL:https://midhudsonsporting.com/event/st-patricks-at-mhsc/
CATEGORIES:Registered Shoots
END:VEVENT
BEGIN:VEVENT
DTSTART;TZID=America/New_York:20250320T000000
DTEND;TZID=America/New_York:20250320T000000
DTSTAMP:20260423T150847
CREATED:20250317T211044Z
LAST-MODIFIED:20250317T212938Z
UID:3164-1742428800-1742428800@midhudsonsporting.com
SUMMARY:Ad Sportsman/Lunch
DESCRIPTION:
URL:https://midhudsonsporting.com/event/ad-sportsman-lunch/
CATEGORIES:Charity/Fundraiser Shoots
END:VEVENT
BEGIN:VEVENT
DTSTART;TZID=America/New_York:20250105T090000
DTEND;TZID=America/New_York:20250105T130000
DTSTAMP:20260423T150847
CREATED:20240105T152155Z
LAST-MODIFIED:20241229T234356Z
UID:2963-1736067600-1736082000@midhudsonsporting.com
SUMMARY:RESCHEDULED: Hangover 100 2025
DESCRIPTION:Event moved to January 5 due to weather forecast.\nClosed to Public. \nJoin us for our semi-annual Hangover 100 to sober up after your new years shenanigans. We will only be open for this event\, there will be no public shooting available. \nHangover 100 Main\n100 Target\n8:30 am Check-in\n10:00 am Start\n5 man Squads\n$10 Back to Class with Lewis option\nCost: $120.00 \nIf you have any questions or concerns you can contact us by email at\, Qsimek@midhudsonsporting.com. \nNeed help signing up? Go to  https://www.youtube.com/watch?v=B8Kl05XCjvo\nfor ScoreChaser’s Tutorial Video!
URL:https://midhudsonsporting.com/event/new-years-day-2025/
CATEGORIES:Registered Shoots
END:VEVENT
BEGIN:VEVENT
DTSTART;TZID=America/New_York:20250101T000000
DTEND;TZID=America/New_York:20250101T000000
DTSTAMP:20260423T150847
CREATED:20250317T211044Z
LAST-MODIFIED:20250317T211044Z
UID:3163-1735689600-1735689600@midhudsonsporting.com
SUMMARY:Hangover 100
DESCRIPTION:
URL:https://midhudsonsporting.com/event/hangover-100-2/
END:VEVENT
BEGIN:VEVENT
DTSTART;VALUE=DATE:20241231
DTEND;VALUE=DATE:20250102
DTSTAMP:20260423T150847
CREATED:20231217T210521Z
LAST-MODIFIED:20241229T234548Z
UID:2892-1735603200-1735775999@midhudsonsporting.com
SUMMARY:New Year's Eve & Day: CLOSED
DESCRIPTION:CLOSED
URL:https://midhudsonsporting.com/event/new-years-eve/
CATEGORIES:Holiday
END:VEVENT
BEGIN:VEVENT
DTSTART;VALUE=DATE:20241225
DTEND;VALUE=DATE:20241226
DTSTAMP:20260423T150847
CREATED:20231217T210428Z
LAST-MODIFIED:20241217T170728Z
UID:2889-1735084800-1735171199@midhudsonsporting.com
SUMMARY:Christmas: CLOSED
DESCRIPTION:CLOSED
URL:https://midhudsonsporting.com/event/christmas/
CATEGORIES:Holiday
END:VEVENT
BEGIN:VEVENT
DTSTART;VALUE=DATE:20241224
DTEND;VALUE=DATE:20241225
DTSTAMP:20260423T150847
CREATED:20231217T210349Z
LAST-MODIFIED:20241217T170732Z
UID:2885-1734998400-1735084799@midhudsonsporting.com
SUMMARY:Christmas Eve: CLOSED
DESCRIPTION:WE ARE CLOSED
URL:https://midhudsonsporting.com/event/christmas-eve/
CATEGORIES:Holiday
END:VEVENT
BEGIN:VEVENT
DTSTART;VALUE=DATE:20241128
DTEND;VALUE=DATE:20241129
DTSTAMP:20260423T150847
CREATED:20231217T210208Z
LAST-MODIFIED:20240317T141039Z
UID:2882-1732752000-1732838399@midhudsonsporting.com
SUMMARY:Thanksgiving
DESCRIPTION:CLOSED
URL:https://midhudsonsporting.com/event/thanksgiving/
CATEGORIES:Holiday
END:VEVENT
BEGIN:VEVENT
DTSTART;TZID=America/New_York:20241127T080000
DTEND;TZID=America/New_York:20241127T120000
DTSTAMP:20260423T150847
CREATED:20231217T210130Z
LAST-MODIFIED:20240317T141046Z
UID:2879-1732694400-1732708800@midhudsonsporting.com
SUMMARY:Thanksgiving Eve
DESCRIPTION:Course will be open till 12pm
URL:https://midhudsonsporting.com/event/thanksgiving-eve/
CATEGORIES:Holiday
END:VEVENT
BEGIN:VEVENT
DTSTART;TZID=America/New_York:20241121T080000
DTEND;TZID=America/New_York:20241121T170000
DTSTAMP:20260423T150847
CREATED:20240912T232715Z
LAST-MODIFIED:20240912T232715Z
UID:3108-1732176000-1732208400@midhudsonsporting.com
SUMMARY:Ad Sportsmen
DESCRIPTION:
URL:https://midhudsonsporting.com/event/ad-sportsmen/
END:VEVENT
BEGIN:VEVENT
DTSTART;TZID=America/New_York:20241101T080000
DTEND;TZID=America/New_York:20241101T170000
DTSTAMP:20260423T150847
CREATED:20231101T195626Z
LAST-MODIFIED:20240912T232619Z
UID:2869-1730448000-1730480400@midhudsonsporting.com
SUMMARY:Boy Scout Shoot
DESCRIPTION:Limited Stations available to Public.
URL:https://midhudsonsporting.com/event/boy-scout-shoot/
CATEGORIES:Charity/Fundraiser Shoots
END:VEVENT
BEGIN:VEVENT
DTSTART;VALUE=DATE:20241025
DTEND;VALUE=DATE:20241026
DTSTAMP:20260423T150847
CREATED:20231217T205954Z
LAST-MODIFIED:20240317T141053Z
UID:2876-1729814400-1729900799@midhudsonsporting.com
SUMMARY:OCI Cancer Shoot
DESCRIPTION:CLOSED TO PUBLIC
URL:https://midhudsonsporting.com/event/oci-cancer-shoot/
CATEGORIES:Charity/Fundraiser Shoots
END:VEVENT
BEGIN:VEVENT
DTSTART;VALUE=DATE:20241020
DTEND;VALUE=DATE:20241021
DTSTAMP:20260423T150847
CREATED:20231217T205826Z
LAST-MODIFIED:20240317T141059Z
UID:2873-1729382400-1729468799@midhudsonsporting.com
SUMMARY:Dutchess County Sheriff PBA Shoot
DESCRIPTION:Limited Stations available to Public.
URL:https://midhudsonsporting.com/event/dutchess-county-sheriff-pba-shoot/
CATEGORIES:Charity/Fundraiser Shoots
END:VEVENT
BEGIN:VEVENT
DTSTART;VALUE=DATE:20241017
DTEND;VALUE=DATE:20241018
DTSTAMP:20260423T150847
CREATED:20240302T134935Z
LAST-MODIFIED:20240912T232442Z
UID:2998-1729123200-1729209599@midhudsonsporting.com
SUMMARY:Tunnels to Towers Foundation Charity Shoot
DESCRIPTION:CLOSED TO THE PUBLIC \n  \nMORE INFO TO FOLLOW
URL:https://midhudsonsporting.com/event/private-event/
LOCATION:Mid Hudson Sporting Clays\, 411 N Ohioville Rd\, New Paltz\, NY\, 12561\, United States
CATEGORIES:Charity/Fundraiser Shoots
ORGANIZER;CN="Tunnels to Towers Foundation":MAILTO:Zoe.Friedman@T2T.org
END:VEVENT
BEGIN:VEVENT
DTSTART;TZID=America/New_York:20241006T080000
DTEND;TZID=America/New_York:20241006T170000
DTSTAMP:20260423T150847
CREATED:20231217T205518Z
LAST-MODIFIED:20240912T232344Z
UID:2866-1728201600-1728234000@midhudsonsporting.com
SUMMARY:DCR Foundation
DESCRIPTION:Limited Stations available to Public.
URL:https://midhudsonsporting.com/event/dcr-foundation-2/
CATEGORIES:Charity/Fundraiser Shoots
END:VEVENT
BEGIN:VEVENT
DTSTART;VALUE=DATE:20241004
DTEND;VALUE=DATE:20241005
DTSTAMP:20260423T150847
CREATED:20231217T205128Z
LAST-MODIFIED:20240317T141228Z
UID:2863-1728000000-1728086399@midhudsonsporting.com
SUMMARY:IREM Shoot
DESCRIPTION:CLOSED TO PUBLIC
URL:https://midhudsonsporting.com/event/irem-shoot/
CATEGORIES:Charity/Fundraiser Shoots
END:VEVENT
BEGIN:VEVENT
DTSTART;TZID=America/New_York:20240928T080000
DTEND;TZID=America/New_York:20240928T170000
DTSTAMP:20260423T150847
CREATED:20240318T201919Z
LAST-MODIFIED:20240912T232903Z
UID:3030-1727510400-1727542800@midhudsonsporting.com
SUMMARY:Lake Katrine Rod & Gun Club Sporting Clays Fundraiser
DESCRIPTION:Limited Stations available to Public. \n  \nContact Tyson McCasland (tysonmccasland@gmail.com) for sign-up
URL:https://midhudsonsporting.com/event/lake-katrine-rod-gun-club-sporting-clays-fundraiser/
END:VEVENT
BEGIN:VEVENT
DTSTART;TZID=America/New_York:20240927T080000
DTEND;TZID=America/New_York:20240927T170000
DTSTAMP:20260423T150847
CREATED:20240419T210632Z
LAST-MODIFIED:20240426T165443Z
UID:3059-1727424000-1727456400@midhudsonsporting.com
SUMMARY:Columbian Shoot
DESCRIPTION:Limited Stations available to Public.
URL:https://midhudsonsporting.com/event/columbian-shoot/
END:VEVENT
BEGIN:VEVENT
DTSTART;TZID=America/New_York:20240922T080000
DTEND;TZID=America/New_York:20240922T170000
DTSTAMP:20260423T150847
CREATED:20240104T162911Z
LAST-MODIFIED:20240912T232832Z
UID:2933-1726992000-1727024400@midhudsonsporting.com
SUMMARY:Mid Hudson Sporting Clays Membership Shoot
DESCRIPTION:Welcome back for Mid Hudson Sporting Clays Annual Member Appreciation Shoot. We will be offering two events this year; a 100 bird Sporting from 9:00am- 12:00pm and to test your skills\, a 100 bird Long/Short Sporting available after lunch. Lunch will be provided for all participants. \nMembership Appreciation Sporting\n100 Target\n$10 Back to Class with Lewis option\nRotation: 9:00am- 12:30pm\n5 man Squads\nCost:\nMember: $0\nMember Registered Targets: $6\nNon-Member: $110 \nLongBird/ShortBird\n100 Target\nRotation: 1:00pm- Dark\n5 man Squads\nCost: $120 \nIf you have any questions or concerns you can contact us by email at\, Qsimek@midhudsonsporting.com.\nPlease do not contact Score Chaser for questions or concerns regarding registration\, squadding\, or any of our shoots. They cannot assist you with these and will direct you back to the email listed above . \nNeed help signing up? Go to  https://www.youtube.com/watch?v=B8Kl05XCjvo. for ScoreChaser’s Tutorial Video! \n** You must be Registered 15 minutes prior to the start of your Events** \n  \nRegister Here \n 
URL:https://midhudsonsporting.com/event/mid-hudson-sporting-clays-membership-shoot/
CATEGORIES:Registered Shoots
END:VEVENT
BEGIN:VEVENT
DTSTART;TZID=America/New_York:20240918T080000
DTEND;TZID=America/New_York:20240918T170000
DTSTAMP:20260423T150847
CREATED:20240912T232131Z
LAST-MODIFIED:20240912T232812Z
UID:3100-1726646400-1726678800@midhudsonsporting.com
SUMMARY:NYBMA
DESCRIPTION:
URL:https://midhudsonsporting.com/event/nybma/
END:VEVENT
BEGIN:VEVENT
DTSTART;VALUE=DATE:20240915
DTEND;VALUE=DATE:20240916
DTSTAMP:20260423T150847
CREATED:20231217T204948Z
LAST-MODIFIED:20240317T141234Z
UID:2860-1726358400-1726444799@midhudsonsporting.com
SUMMARY:Windy Hollow Charity Shoot
DESCRIPTION:CLOSED TO PUBLIC
URL:https://midhudsonsporting.com/event/windy-hollow-charity-shoot/
CATEGORIES:Charity/Fundraiser Shoots
END:VEVENT
BEGIN:VEVENT
DTSTART;TZID=America/New_York:20240908T080000
DTEND;TZID=America/New_York:20240908T170000
DTSTAMP:20260423T150847
CREATED:20240104T164915Z
LAST-MODIFIED:20240105T211520Z
UID:2938-1725782400-1725814800@midhudsonsporting.com
SUMMARY:End of Summer 200
DESCRIPTION:As summer draws to a close join us at Midhudson Sporting Clays for our End of Summer 200. This is a 200 bird shoot only (Both the morning and afternoon courses must be shot.) Lunch will be included for all shooters. \nAM REPORTS\n100 Target\nRotation: 9:00am-12:30pm\n4 man Squads \nPM SIMOS\n100 Target\nRotation: 1:00pm- 5:00pm\n4 man Squads \n$20 Back to Class with Lewis option\nCost: $220.00 \nIf you have any questions or concerns you can contact us by email at\, qsimek@midhudsonsporting.com. \nNeed help signing up? Go to  https://www.youtube.com/watch?v=B8Kl05XCjvo\nfor ScoreChaser’s Tutorial Video! \n** You must be Registered 15 minutes prior to the start of your Events**
URL:https://midhudsonsporting.com/event/end-of-summer-200/
CATEGORIES:Registered Shoots
END:VEVENT
BEGIN:VEVENT
DTSTART;TZID=America/New_York:20240906T080000
DTEND;TZID=America/New_York:20240906T170000
DTSTAMP:20260423T150847
CREATED:20240419T210737Z
LAST-MODIFIED:20240419T210757Z
UID:3062-1725609600-1725642000@midhudsonsporting.com
SUMMARY:RipVanWinkle Boy Scout Shoot
DESCRIPTION:MORE INFO TO FOLLOW
URL:https://midhudsonsporting.com/event/ripvanwinkle-boy-scout-shoot/
END:VEVENT
BEGIN:VEVENT
DTSTART;VALUE=DATE:20240823
DTEND;VALUE=DATE:20240824
DTSTAMP:20260423T150847
CREATED:20231217T202710Z
LAST-MODIFIED:20240317T141242Z
UID:2857-1724371200-1724457599@midhudsonsporting.com
SUMMARY:SGT Hrbek Memorial Sporting Clays
DESCRIPTION:CLOSED TO THE PUBLIC
URL:https://midhudsonsporting.com/event/sgt-hrbek-memorial-sporting-clays/
CATEGORIES:Charity/Fundraiser Shoots
END:VEVENT
BEGIN:VEVENT
DTSTART;TZID=America/New_York:20240804T080000
DTEND;TZID=America/New_York:20240804T170000
DTSTAMP:20260423T150847
CREATED:20240104T162029Z
LAST-MODIFIED:20240105T211533Z
UID:2927-1722758400-1722790800@midhudsonsporting.com
SUMMARY:Mid Hudson 50-50-50-50
DESCRIPTION:Join us for Mid Hudson’s 50-50-50-50\, and get a feel for all the events Sporting Clays encompasses. We will be offering four 50 bird events; Sporting Clays\, Super Sporting\, 5-Stand\, and Fitasc. Lunch will be included for all shooters. \nSporting\n50 Target\n8:30 am Start\nEuropean Squadding\n5 man Squads\nCost: $60.00 \nSuper Sporting\n50 Target\n8:30 am Start\nEuropean Squadding\n5 man Squads\nCost: $60.00 \n5-Stand\n50 Bird\nSquadded w/ Referee\nRotations every 40 minutes\n5 man Squads\nCost: $65.00 \nFitasc\n50 Bird\nSquadded w/ Referee\nRotations every 100 minutes\n6 man Squads\nCost: $70.00 \nIf you have any questions or concerns you can contact us by email at\, Qsimek@midhudsonsporting.com.\nPlease do not contact Score Chaser for questions or concerns regarding registration\, squadding\, or any of our shoots. They cannot assist you with these and will direct you back to the email listed above . \nNeed help signing up? Go to  https://www.youtube.com/watch?v=B8Kl05XCjvo for ScoreChaser’s Tutorial Video! \n** You must be Registered 15 minutes prior to the start of your Events** \n 
URL:https://midhudsonsporting.com/event/mid-hudson-50-50-50-50/
CATEGORIES:Registered Shoots
END:VEVENT
BEGIN:VEVENT
DTSTART;TZID=America/New_York:20240727T080000
DTEND;TZID=America/New_York:20240727T170000
DTSTAMP:20260423T150847
CREATED:20240328T145000Z
LAST-MODIFIED:20240328T145000Z
UID:3035-1722067200-1722099600@midhudsonsporting.com
SUMMARY:FEDERATION OF DC FISH & GAME CLUBS: BEST OF THE VALLEY SPORTING CLAYS FUNDRAISER
DESCRIPTION:Join us for the Federation of Dutchess County Fish & Game Clubs 2nd Annual Best of the Valley Sporting Clays Fundraiser on Saturday\, July 27th at Mid Hudson Sporting Clays. \nBest of the Valley Main\n100 Target\n8am Check-in\, Hot Breakfast included\n9:30am Start\n4 man Squads\nCost: $140.00\nBBQ Lunch included\n  \nThere will be a Remington 870 door prize\, as well as dozens of raffles and other great prizes available.\n\nSign up on scorechaser.com\n\nLimited Stations available to Public.
URL:https://midhudsonsporting.com/event/federation-of-dc-fish-game-clubs-best-of-the-valley-sporting-clays-fundraiser/
LOCATION:Mid Hudson Sporting Clays\, 411 N Ohioville Rd\, New Paltz\, NY\, 12561\, United States
ORGANIZER;CN="Federation of Dutchess County Fish & Game Clubs":MAILTO:Tseaswirl1@aol.com
END:VEVENT
END:VCALENDAR