BEGIN:VCALENDAR
VERSION:2.0
PRODID:-//Mid-Hudson Sporting Clays - ECPv6.11.0.1//NONSGML v1.0//EN
CALSCALE:GREGORIAN
METHOD:PUBLISH
X-ORIGINAL-URL:https://midhudsonsporting.com
X-WR-CALDESC:Events for Mid-Hudson Sporting Clays
REFRESH-INTERVAL;VALUE=DURATION:PT1H
X-Robots-Tag:noindex
X-PUBLISHED-TTL:PT1H
BEGIN:VTIMEZONE
TZID:America/New_York
BEGIN:DAYLIGHT
TZOFFSETFROM:-0500
TZOFFSETTO:-0400
TZNAME:EDT
DTSTART:20250309T070000
END:DAYLIGHT
BEGIN:STANDARD
TZOFFSETFROM:-0400
TZOFFSETTO:-0500
TZNAME:EST
DTSTART:20251102T060000
END:STANDARD
BEGIN:DAYLIGHT
TZOFFSETFROM:-0500
TZOFFSETTO:-0400
TZNAME:EDT
DTSTART:20260308T070000
END:DAYLIGHT
BEGIN:STANDARD
TZOFFSETFROM:-0400
TZOFFSETTO:-0500
TZNAME:EST
DTSTART:20261101T060000
END:STANDARD
END:VTIMEZONE
BEGIN:VEVENT
DTSTART;TZID=America/New_York:20260101T100000
DTEND;TZID=America/New_York:20260101T170000
DTSTAMP:20260423T120105
CREATED:20250317T211147Z
LAST-MODIFIED:20251217T125825Z
UID:3188-1767261600-1767286800@midhudsonsporting.com
SUMMARY:Hangover 100
DESCRIPTION:We are closed to the public during this event.
URL:https://midhudsonsporting.com/event/hangover-100-3/
CATEGORIES:Registered Shoots
END:VEVENT
BEGIN:VEVENT
DTSTART;TZID=America/New_York:20251109T000000
DTEND;TZID=America/New_York:20251109T000000
DTSTAMP:20260423T120105
CREATED:20250317T211132Z
LAST-MODIFIED:20250317T212428Z
UID:3187-1762646400-1762646400@midhudsonsporting.com
SUMMARY:Veterans Appreciation Shoot
DESCRIPTION:
URL:https://midhudsonsporting.com/event/veterans-appreciation-shoot/
CATEGORIES:Registered Shoots
END:VEVENT
BEGIN:VEVENT
DTSTART;TZID=America/New_York:20251018T000000
DTEND;TZID=America/New_York:20251018T000000
DTSTAMP:20260423T120105
CREATED:20250317T211132Z
LAST-MODIFIED:20250317T212445Z
UID:3186-1760745600-1760745600@midhudsonsporting.com
SUMMARY:Lake Katrine Shoot
DESCRIPTION:
URL:https://midhudsonsporting.com/event/lake-katrine-shoot/
CATEGORIES:Charity/Fundraiser Shoots
END:VEVENT
BEGIN:VEVENT
DTSTART;TZID=America/New_York:20251017T000000
DTEND;TZID=America/New_York:20251017T000000
DTSTAMP:20260423T120105
CREATED:20250317T211132Z
LAST-MODIFIED:20250317T212500Z
UID:3185-1760659200-1760659200@midhudsonsporting.com
SUMMARY:Orange County Ironworks
DESCRIPTION:We are closed to the public during this event.
URL:https://midhudsonsporting.com/event/orange-county-ironworks/
CATEGORIES:Charity/Fundraiser Shoots
END:VEVENT
BEGIN:VEVENT
DTSTART;TZID=America/New_York:20251010T000000
DTEND;TZID=America/New_York:20251010T000000
DTSTAMP:20260423T120105
CREATED:20250317T211132Z
LAST-MODIFIED:20250317T212518Z
UID:3184-1760054400-1760054400@midhudsonsporting.com
SUMMARY:Irem Shoot
DESCRIPTION:We are closed to the public during this event.
URL:https://midhudsonsporting.com/event/irem-shoot-2/
CATEGORIES:Charity/Fundraiser Shoots
END:VEVENT
BEGIN:VEVENT
DTSTART;TZID=America/New_York:20250927T000000
DTEND;TZID=America/New_York:20250927T000000
DTSTAMP:20260423T120105
CREATED:20250317T211132Z
LAST-MODIFIED:20250317T212527Z
UID:3183-1758931200-1758931200@midhudsonsporting.com
SUMMARY:Salt Point Fire Department
DESCRIPTION:
URL:https://midhudsonsporting.com/event/salt-point-fire-department/
CATEGORIES:Charity/Fundraiser Shoots
END:VEVENT
BEGIN:VEVENT
DTSTART;TZID=America/New_York:20250926T000000
DTEND;TZID=America/New_York:20250926T000000
DTSTAMP:20260423T120105
CREATED:20250317T211117Z
LAST-MODIFIED:20250317T212535Z
UID:3182-1758844800-1758844800@midhudsonsporting.com
SUMMARY:Columbian Shoot
DESCRIPTION:
URL:https://midhudsonsporting.com/event/columbian-shoot-2/
CATEGORIES:Charity/Fundraiser Shoots
END:VEVENT
BEGIN:VEVENT
DTSTART;TZID=America/New_York:20250921T000000
DTEND;TZID=America/New_York:20250921T000000
DTSTAMP:20260423T120105
CREATED:20250317T211117Z
LAST-MODIFIED:20250317T212543Z
UID:3181-1758412800-1758412800@midhudsonsporting.com
SUMMARY:Membership Appreciation 200
DESCRIPTION:
URL:https://midhudsonsporting.com/event/membership-appreciation-200/
CATEGORIES:Registered Shoots
END:VEVENT
BEGIN:VEVENT
DTSTART;TZID=America/New_York:20250919T000000
DTEND;TZID=America/New_York:20250919T000000
DTSTAMP:20260423T120105
CREATED:20250317T211117Z
LAST-MODIFIED:20250317T212551Z
UID:3180-1758240000-1758240000@midhudsonsporting.com
SUMMARY:NY Law Enforcemet Foundation
DESCRIPTION:
URL:https://midhudsonsporting.com/event/ny-law-enforcemet-foundation/
CATEGORIES:Charity/Fundraiser Shoots
END:VEVENT
BEGIN:VEVENT
DTSTART;TZID=America/New_York:20250914T000000
DTEND;TZID=America/New_York:20250914T000000
DTSTAMP:20260423T120105
CREATED:20250317T211117Z
LAST-MODIFIED:20250317T212605Z
UID:3179-1757808000-1757808000@midhudsonsporting.com
SUMMARY:Windy Hollow Shoot
DESCRIPTION:We are closed to the public during this event.
URL:https://midhudsonsporting.com/event/windy-hollow-shoot/
CATEGORIES:Charity/Fundraiser Shoots
END:VEVENT
BEGIN:VEVENT
DTSTART;TZID=America/New_York:20250907T000000
DTEND;TZID=America/New_York:20250907T000000
DTSTAMP:20260423T120105
CREATED:20250317T211117Z
LAST-MODIFIED:20250317T212623Z
UID:3178-1757203200-1757203200@midhudsonsporting.com
SUMMARY:Dutchess County PBA
DESCRIPTION:
URL:https://midhudsonsporting.com/event/dutchess-county-pba/
CATEGORIES:Charity/Fundraiser Shoots
END:VEVENT
BEGIN:VEVENT
DTSTART;TZID=America/New_York:20250905T000000
DTEND;TZID=America/New_York:20250905T000000
DTSTAMP:20260423T120105
CREATED:20250317T211102Z
LAST-MODIFIED:20250317T212630Z
UID:3177-1757030400-1757030400@midhudsonsporting.com
SUMMARY:Rip Van Winkle Boy Scout Shoot
DESCRIPTION:
URL:https://midhudsonsporting.com/event/rip-van-winkle-boy-scout-shoot/
CATEGORIES:Charity/Fundraiser Shoots
END:VEVENT
BEGIN:VEVENT
DTSTART;TZID=America/New_York:20250830T083000
DTEND;TZID=America/New_York:20250830T170000
DTSTAMP:20260423T120105
CREATED:20250907T020422Z
LAST-MODIFIED:20250814T191637Z
UID:3260-1756542600-1756573200@midhudsonsporting.com
SUMMARY:A Cure for Jenny
DESCRIPTION:100 Sporting Clays\nRegister on Scorechaser.com \nNon-registered targets: $140\nJust lunch: $25\n4-man golf carts: $80 \nJenny is one of Mid-Hudson’s trappers & fellow trappers will be shooting to support her. There will be no trapper service at this shoot. \n\nMake a break\nLong bird\nRaffles\nAuctions\nPrizes\n\n \n 
URL:https://midhudsonsporting.com/event/a-cure-for-jenny/
CATEGORIES:Charity/Fundraiser Shoots
ATTACH;FMTTYPE=image/png:https://midhudsonsporting.com/wp-content/uploads/2025/09/A-CURE-FOR-JENNY-Sept-6.png
END:VEVENT
BEGIN:VEVENT
DTSTART;TZID=America/New_York:20250824T000000
DTEND;TZID=America/New_York:20250824T000000
DTSTAMP:20260423T120105
CREATED:20250317T211102Z
LAST-MODIFIED:20250317T212707Z
UID:3176-1755993600-1755993600@midhudsonsporting.com
SUMMARY:DC Federation BBQ Celebration
DESCRIPTION:
URL:https://midhudsonsporting.com/event/dc-federation-bbq-celebration/
CATEGORIES:Private Party
END:VEVENT
BEGIN:VEVENT
DTSTART;TZID=America/New_York:20250822T000000
DTEND;TZID=America/New_York:20250822T000000
DTSTAMP:20260423T120105
CREATED:20250317T211102Z
LAST-MODIFIED:20250317T212739Z
UID:3175-1755820800-1755820800@midhudsonsporting.com
SUMMARY:Sgt Hrbek Shoot
DESCRIPTION:We are closed to the public during this event.
URL:https://midhudsonsporting.com/event/sgt-hrbek-shoot/
CATEGORIES:Charity/Fundraiser Shoots
END:VEVENT
BEGIN:VEVENT
DTSTART;TZID=America/New_York:20250817T000000
DTEND;TZID=America/New_York:20250817T000000
DTSTAMP:20260423T120105
CREATED:20250317T211102Z
LAST-MODIFIED:20250317T212750Z
UID:3174-1755388800-1755388800@midhudsonsporting.com
SUMMARY:Summer Heat 200
DESCRIPTION:
URL:https://midhudsonsporting.com/event/summer-heat-200/
CATEGORIES:Registered Shoots
END:VEVENT
BEGIN:VEVENT
DTSTART;TZID=America/New_York:20250809T083000
DTEND;TZID=America/New_York:20250809T150000
DTSTAMP:20260423T120105
CREATED:20250509T191318Z
LAST-MODIFIED:20250509T191318Z
UID:3246-1754728200-1754751600@midhudsonsporting.com
SUMMARY:Paul L. Mollica\, Esq.’s Clays for a Cause
DESCRIPTION:
URL:https://midhudsonsporting.com/event/paul-l-mollica-esq-s-clays-for-a-cause/
CATEGORIES:Charity/Fundraiser Shoots
ATTACH;FMTTYPE=image/jpeg:https://midhudsonsporting.com/wp-content/uploads/2025/05/Orange-Brown-Retro-Clay-Shooting-Competition-Flyer_Page_1.jpg
END:VEVENT
BEGIN:VEVENT
DTSTART;TZID=America/New_York:20250802T080000
DTEND;TZID=America/New_York:20250803T170000
DTSTAMP:20260423T120105
CREATED:20250603T182454Z
LAST-MODIFIED:20250603T182530Z
UID:3255-1754121600-1754240400@midhudsonsporting.com
SUMMARY:Torture 300
DESCRIPTION:
URL:https://midhudsonsporting.com/event/3255/
CATEGORIES:Registered Shoots
ATTACH;FMTTYPE=image/png:https://midhudsonsporting.com/wp-content/uploads/2025/06/Screenshot-2025-06-03-at-2.22.03 PM.png
END:VEVENT
BEGIN:VEVENT
DTSTART;TZID=America/New_York:20250712T000000
DTEND;TZID=America/New_York:20250712T000000
DTSTAMP:20260423T120105
CREATED:20250317T211102Z
LAST-MODIFIED:20250317T212802Z
UID:3173-1752278400-1752278400@midhudsonsporting.com
SUMMARY:DAV Shoot
DESCRIPTION:We are closed to the public during this event.
URL:https://midhudsonsporting.com/event/dav-shoot/
CATEGORIES:Charity/Fundraiser Shoots
END:VEVENT
BEGIN:VEVENT
DTSTART;TZID=America/New_York:20250621T000000
DTEND;TZID=America/New_York:20250621T000000
DTSTAMP:20260423T120105
CREATED:20250317T211047Z
LAST-MODIFIED:20250317T212819Z
UID:3172-1750464000-1750464000@midhudsonsporting.com
SUMMARY:Clays for K9 Cancer Research
DESCRIPTION:We are closed to the public during this event.
URL:https://midhudsonsporting.com/event/clays-for-k9-cancer-research/
CATEGORIES:Charity/Fundraiser Shoots
END:VEVENT
BEGIN:VEVENT
DTSTART;TZID=America/New_York:20250613T000000
DTEND;TZID=America/New_York:20250613T000000
DTSTAMP:20260423T120105
CREATED:20250317T211047Z
LAST-MODIFIED:20250317T212836Z
UID:3171-1749772800-1749772800@midhudsonsporting.com
SUMMARY:Garnett Health
DESCRIPTION:We are closed to the public during this event.
URL:https://midhudsonsporting.com/event/garnett-health/
CATEGORIES:Charity/Fundraiser Shoots
END:VEVENT
BEGIN:VEVENT
DTSTART;TZID=America/New_York:20250607T000000
DTEND;TZID=America/New_York:20250607T000000
DTSTAMP:20260423T120105
CREATED:20250317T211047Z
LAST-MODIFIED:20250317T212845Z
UID:3170-1749254400-1749254400@midhudsonsporting.com
SUMMARY:DCSEA Corrections Shoot
DESCRIPTION:
URL:https://midhudsonsporting.com/event/dcsea-corrections-shoot/
CATEGORIES:Charity/Fundraiser Shoots
END:VEVENT
BEGIN:VEVENT
DTSTART;TZID=America/New_York:20250525T000000
DTEND;TZID=America/New_York:20250525T000000
DTSTAMP:20260423T120105
CREATED:20250317T211047Z
LAST-MODIFIED:20250317T212853Z
UID:3169-1748131200-1748131200@midhudsonsporting.com
SUMMARY:Memorial Day Shoot
DESCRIPTION:
URL:https://midhudsonsporting.com/event/memorial-day-shoot/
CATEGORIES:Registered Shoots
END:VEVENT
BEGIN:VEVENT
DTSTART;TZID=America/New_York:20250517T083000
DTEND;TZID=America/New_York:20250517T150000
DTSTAMP:20260423T120105
CREATED:20250509T190947Z
LAST-MODIFIED:20250509T191019Z
UID:3242-1747470600-1747494000@midhudsonsporting.com
SUMMARY:Claybusters for Veterans
DESCRIPTION:
URL:https://midhudsonsporting.com/event/claybusters-for-veterans/
CATEGORIES:Charity/Fundraiser Shoots
ATTACH;FMTTYPE=image/jpeg:https://midhudsonsporting.com/wp-content/uploads/2025/05/CLAYBUSTERS-For-VETERANS.-2025.QR-1-scaled.jpg
END:VEVENT
BEGIN:VEVENT
DTSTART;TZID=America/New_York:20250510T000000
DTEND;TZID=America/New_York:20250510T000000
DTSTAMP:20260423T120105
CREATED:20250317T211046Z
LAST-MODIFIED:20250317T212906Z
UID:3168-1746835200-1746835200@midhudsonsporting.com
SUMMARY:Helping Disaster Victims Shoot
DESCRIPTION:
URL:https://midhudsonsporting.com/event/helping-disaster-victims-shoot/
CATEGORIES:Charity/Fundraiser Shoots
END:VEVENT
BEGIN:VEVENT
DTSTART;VALUE=DATE:20250420
DTEND;VALUE=DATE:20250421
DTSTAMP:20260423T120105
CREATED:20250407T154151Z
LAST-MODIFIED:20250407T154151Z
UID:3238-1745107200-1745193599@midhudsonsporting.com
SUMMARY:Closed for Easter Sunday
DESCRIPTION:
URL:https://midhudsonsporting.com/event/closed-for-easter-sunday/
CATEGORIES:Holiday
END:VEVENT
BEGIN:VEVENT
DTSTART;TZID=America/New_York:20250419T000000
DTEND;TZID=America/New_York:20250419T000000
DTSTAMP:20260423T120105
CREATED:20250317T211045Z
LAST-MODIFIED:20250317T212913Z
UID:3167-1745020800-1745020800@midhudsonsporting.com
SUMMARY:Easter 200
DESCRIPTION:
URL:https://midhudsonsporting.com/event/easter-200/
CATEGORIES:Registered Shoots
END:VEVENT
BEGIN:VEVENT
DTSTART;TZID=America/New_York:20250412T000000
DTEND;TZID=America/New_York:20250412T000000
DTSTAMP:20260423T120105
CREATED:20250317T211045Z
LAST-MODIFIED:20250331T140828Z
UID:3166-1744416000-1744416000@midhudsonsporting.com
SUMMARY:CANCELED: Aim For A Cause Team 911
DESCRIPTION:This event has been canceled.
URL:https://midhudsonsporting.com/event/aim-for-a-cause-team-911/
CATEGORIES:Charity/Fundraiser Shoots
END:VEVENT
BEGIN:VEVENT
DTSTART;TZID=America/New_York:20250323T000000
DTEND;TZID=America/New_York:20250323T000000
DTSTAMP:20260423T120105
CREATED:20250317T211044Z
LAST-MODIFIED:20250317T212930Z
UID:3165-1742688000-1742688000@midhudsonsporting.com
SUMMARY:St Patricks at MHSC
DESCRIPTION:
URL:https://midhudsonsporting.com/event/st-patricks-at-mhsc/
CATEGORIES:Registered Shoots
END:VEVENT
BEGIN:VEVENT
DTSTART;TZID=America/New_York:20250320T000000
DTEND;TZID=America/New_York:20250320T000000
DTSTAMP:20260423T120105
CREATED:20250317T211044Z
LAST-MODIFIED:20250317T212938Z
UID:3164-1742428800-1742428800@midhudsonsporting.com
SUMMARY:Ad Sportsman/Lunch
DESCRIPTION:
URL:https://midhudsonsporting.com/event/ad-sportsman-lunch/
CATEGORIES:Charity/Fundraiser Shoots
END:VEVENT
END:VCALENDAR